BEGIN:VCALENDAR
VERSION:2.0
PRODID:-//wp-events-plugin.com//6.6.4.4//EN
TZID:Europe/Berlin
X-WR-TIMEZONE:Europe/Berlin
BEGIN:VEVENT
UID:169@tucholsky-buehne.de
DTSTART;TZID=Europe/Berlin:20250525T120000
DTEND;TZID=Europe/Berlin:20250525T180000
DTSTAMP:20250520T183128Z
URL:https://www.tucholsky-buehne.de/veranstaltungen-fort-a/mitternachtsmar
 kt-stadtteilfest-rechte-weserseite-2/
SUMMARY:Mitternachtsmarkt + Stadtteilfest „Rechte Weserseite“
DESCRIPTION:Nach einer gefühlt endlos langen Unterbrechung ist der legend
 äre Mitternachtsmarkt im Fort A wieder da. Nach fünf Jahren Pause öffne
 n wir wieder die Tore der alten Festung für Aussteller und Publikum.\n\n\
 n\nEs bleibt bei der bewährten Mischung aus ausgewählten Ständen\, leck
 eren Speisen\, einem großen Bühnenprogramm und der besonderen Atmosphär
 e der alten Mauern.\n\n\n\nMehr als 30 Stände beim Stadtteilfest\nKinders
 chminken – Experimentieren – Feuerwehr -Stadteilentwicklung – Quarti
 ersmanagement – Bürgermeister – Internationale Speisen – und … un
 d … und …\n\n\n\nMehr als 30 Stände beim Mitternachtsmarkt\nLampenuni
 kate – Hüte – Seidenkleider – Portraitmalerei – Tischlerkunst –
  Kugelschreiberunikate – und …. und …. und …..\nBühnenprogramm de
 n ganzen Tag – Bar- und Außengastronomie.\n\n\n\nWir freuen uns über v
 iele Besucher aus der ganzen Stadt und den Gemeinden der Umgebung.\n\n&nbs
 p\;\n\nBühnenprogramm\n\n 	14.00 Deixa Falar\n 	15.30 Tanzkollektiv\n 	16
 .00 Kiwi-Dance\n 	16.15 HIRED HANDS\n 	17.00 Tanzgruppe Vulkan\n 	17.30 Ta
 nzchor Hafenschule\n\n&nbsp\;\n\n\n\nKeine Anmeldung – einfach kommen\n\
 nEintritt frei
ATTACH;FMTTYPE=image/jpeg:https://www.tucholsky-buehne.de/wp-content/uploa
 ds/2025/01/05.24-Mitternachtsmarkt_klein.jpg
END:VEVENT
BEGIN:VTIMEZONE
TZID:Europe/Berlin
X-LIC-LOCATION:Europe/Berlin
BEGIN:DAYLIGHT
DTSTART:20250330T030000
TZOFFSETFROM:+0100
TZOFFSETTO:+0200
TZNAME:CEST
END:DAYLIGHT
END:VTIMEZONE
END:VCALENDAR