BEGIN:VCALENDAR
VERSION:2.0
PRODID:-//wp-events-plugin.com//6.6.4.4//EN
TZID:Europe/Berlin
X-WR-TIMEZONE:Europe/Berlin
BEGIN:VEVENT
UID:154@tucholsky-buehne.de
DTSTART;TZID=Europe/Berlin:20250831T120000
DTEND;TZID=Europe/Berlin:20250831T180000
DTSTAMP:20250828T133520Z
URL:https://www.tucholsky-buehne.de/veranstaltungen-fort-a/lass-ein-bissch
 en-welt-rein-4/
SUMMARY:Lass ein bisschen Welt rein …
DESCRIPTION:Ausstellung Fotografie\, Malerei\, textile Kunst
ATTACH;FMTTYPE=image/jpeg:https://www.tucholsky-buehne.de/wp-content/uploa
 ds/2025/02/Ausstellung-Poster_06.08.2025-1.jpg
END:VEVENT
BEGIN:VTIMEZONE
TZID:Europe/Berlin
X-LIC-LOCATION:Europe/Berlin
BEGIN:DAYLIGHT
DTSTART:20250330T030000
TZOFFSETFROM:+0100
TZOFFSETTO:+0200
TZNAME:CEST
END:DAYLIGHT
END:VTIMEZONE
END:VCALENDAR