BEGIN:VCALENDAR
VERSION:2.0
PRODID:-//wp-events-plugin.com//6.6.4.4//EN
TZID:Europe/Berlin
X-WR-TIMEZONE:Europe/Berlin
BEGIN:VEVENT
UID:22@tucholsky-buehne.de
DTSTART;TZID=Europe/Berlin:20230616T200000
DTEND;TZID=Europe/Berlin:20230616T220000
DTSTAMP:20230322T174521Z
URL:https://www.tucholsky-buehne.de/veranstaltungen-fort-a/female-affairs/
SUMMARY:Female Affairs
DESCRIPTION:Über Frauen\, Männer\, die Liebe und das Esse
ATTACH;FMTTYPE=image/jpeg:https://www.tucholsky-buehne.de/wp-content/uploa
 ds/2023/02/14-Foto-female-affairs-2-e1677344999888.jpg
END:VEVENT
BEGIN:VTIMEZONE
TZID:Europe/Berlin
X-LIC-LOCATION:Europe/Berlin
BEGIN:DAYLIGHT
DTSTART:20230326T030000
TZOFFSETFROM:+0100
TZOFFSETTO:+0200
TZNAME:CEST
END:DAYLIGHT
END:VTIMEZONE
END:VCALENDAR